BEGIN:VCALENDAR
VERSION:2.0
PRODID:-//Constructing Excellence - ECPv6.15.17.1//NONSGML v1.0//EN
CALSCALE:GREGORIAN
METHOD:PUBLISH
X-ORIGINAL-URL:https://constructingexcellence.org.uk
X-WR-CALDESC:Events for Constructing Excellence
REFRESH-INTERVAL;VALUE=DURATION:PT1H
X-Robots-Tag:noindex
X-PUBLISHED-TTL:PT1H
BEGIN:VTIMEZONE
TZID:UTC
BEGIN:STANDARD
TZOFFSETFROM:+0000
TZOFFSETTO:+0000
TZNAME:UTC
DTSTART:20140101T000000
END:STANDARD
END:VTIMEZONE
BEGIN:VEVENT
DTSTART;TZID=UTC:20160602T130000
DTEND;TZID=UTC:20160602T160000
DTSTAMP:20260426T005023
CREATED:20151026T095003Z
LAST-MODIFIED:20160511T103301Z
UID:3541-1464872400-1464883200@constructingexcellence.org.uk
SUMMARY:Procurement Theme Group meeting
DESCRIPTION:
URL:https://constructingexcellence.org.uk/event/procurement-theme-group-meeting-3/
CATEGORIES:Procurement
END:VEVENT
BEGIN:VEVENT
DTSTART;TZID=UTC:20160308T100000
DTEND;TZID=UTC:20160308T150000
DTSTAMP:20260426T005023
CREATED:20150923T122611Z
LAST-MODIFIED:20160113T151740Z
UID:3215-1457431200-1457449200@constructingexcellence.org.uk
SUMMARY:Collaborative Working Champions / Procurement joint meeting
DESCRIPTION:
URL:https://constructingexcellence.org.uk/event/collaborative-working-champions-meeting-5/
CATEGORIES:Collaborative Working Mentors,Procurement
END:VEVENT
BEGIN:VEVENT
DTSTART;TZID=UTC:20151208T110000
DTEND;TZID=UTC:20151208T130000
DTSTAMP:20260426T005023
CREATED:20151026T094647Z
LAST-MODIFIED:20151028T131617Z
UID:3539-1449572400-1449579600@constructingexcellence.org.uk
SUMMARY:Procurement Theme Group meeting
DESCRIPTION:
URL:https://constructingexcellence.org.uk/event/procurement-theme-group/
CATEGORIES:Procurement
END:VEVENT
BEGIN:VEVENT
DTSTART;TZID=UTC:20150930T140000
DTEND;TZID=UTC:20150930T140000
DTSTAMP:20260426T005023
CREATED:20150501T080626Z
LAST-MODIFIED:20150811T132538Z
UID:2733-1443621600-1443621600@constructingexcellence.org.uk
SUMMARY:Procurement Theme Group Meeting
DESCRIPTION:
URL:https://constructingexcellence.org.uk/event/procurement-theme-group-meeting-2/
LOCATION:Leeds
CATEGORIES:Procurement
ORGANIZER;CN="Don Ward":MAILTO:don.ward@constructingexcellence.org.uk
END:VEVENT
BEGIN:VEVENT
DTSTART;TZID=UTC:20150330T140000
DTEND;TZID=UTC:20150330T170000
DTSTAMP:20260426T005023
CREATED:20150225T152352Z
LAST-MODIFIED:20150225T152352Z
UID:1942-1427724000-1427734800@constructingexcellence.org.uk
SUMMARY:Procurement Theme Group Meeting
DESCRIPTION:
URL:https://constructingexcellence.org.uk/event/procurement-theme-group-meeting/
LOCATION:Wragge Lawrence Graham & Co  Birmingham Office\, Two Snowhill\, Birmingham\, B4 6WR\, United Kingdom
CATEGORIES:Procurement
ORGANIZER;CN="Rebecca Gaye":MAILTO:rebecca.gaye@constructingexcellence.org.uk
END:VEVENT
END:VCALENDAR