BEGIN:VCALENDAR
VERSION:2.0
PRODID:-//Constructing Excellence - ECPv6.15.17.1//NONSGML v1.0//EN
CALSCALE:GREGORIAN
METHOD:PUBLISH
X-ORIGINAL-URL:https://constructingexcellence.org.uk
X-WR-CALDESC:Events for Constructing Excellence
REFRESH-INTERVAL;VALUE=DURATION:PT1H
X-Robots-Tag:noindex
X-PUBLISHED-TTL:PT1H
BEGIN:VTIMEZONE
TZID:Europe/London
BEGIN:DAYLIGHT
TZOFFSETFROM:+0000
TZOFFSETTO:+0100
TZNAME:BST
DTSTART:20250330T010000
END:DAYLIGHT
BEGIN:STANDARD
TZOFFSETFROM:+0100
TZOFFSETTO:+0000
TZNAME:GMT
DTSTART:20251026T010000
END:STANDARD
BEGIN:DAYLIGHT
TZOFFSETFROM:+0000
TZOFFSETTO:+0100
TZNAME:BST
DTSTART:20260329T010000
END:DAYLIGHT
BEGIN:STANDARD
TZOFFSETFROM:+0100
TZOFFSETTO:+0000
TZNAME:GMT
DTSTART:20261025T010000
END:STANDARD
BEGIN:DAYLIGHT
TZOFFSETFROM:+0000
TZOFFSETTO:+0100
TZNAME:BST
DTSTART:20270328T010000
END:DAYLIGHT
BEGIN:STANDARD
TZOFFSETFROM:+0100
TZOFFSETTO:+0000
TZNAME:GMT
DTSTART:20271031T010000
END:STANDARD
END:VTIMEZONE
BEGIN:VEVENT
DTSTART;TZID=Europe/London:20260422T140000
DTEND;TZID=Europe/London:20260422T153000
DTSTAMP:20260420T024206
CREATED:20260102T092325Z
LAST-MODIFIED:20260330T102050Z
UID:26701-1776866400-1776871800@constructingexcellence.org.uk
SUMMARY:CE Procurement Group- April
DESCRIPTION:The Constructing Excellence Procurement Group\, chaired by Rebecca Rees\, brings together a highly knowledgeable group of our members who are committed to delivering better procurement. \nJoin us on Wednesday 22nd April for another interesting session on The Economics of Social Value – Who Pays? We will hear from speakers Lucy Howard\, Turners & Townsend\, and Ellie Jenkins\, Akerlof. \nThis event provides Constructing Excellence National members with CPD in partnership with BRE Academy.
URL:https://constructingexcellence.org.uk/event/ce-procurement-group-april/
LOCATION:Online
CATEGORIES:Events,Procurement
ATTACH;FMTTYPE=image/png:https://constructingexcellence.org.uk/wp-content/uploads/2024/02/procurement-INDIGO-e1727687296656.png
END:VEVENT
BEGIN:VEVENT
DTSTART;TZID=Europe/London:20260611T110000
DTEND;TZID=Europe/London:20260611T123000
DTSTAMP:20260420T024206
CREATED:20260102T092452Z
LAST-MODIFIED:20260102T092452Z
UID:26703-1781175600-1781181000@constructingexcellence.org.uk
SUMMARY:CE Procurement Group- June
DESCRIPTION:The Constructing Excellence Procurement Group\, chaired by Rebecca Rees\, brings together a highly knowledgeable group of our members who are committed to delivering better procurement. \nRebecca is a partner and Head of Public Procurement at the international law firm\, Trowers & Hamlins\, and is a leading national expert in public procurement law\, consistently ranked as among the world’s leading government contracts lawyers. \nJoin us on Thursday 11th June for another interesting session\, more details to follow shortly. \nThis event provides Constructing Excellence National members with CPD in partnership with BRE Academy.
URL:https://constructingexcellence.org.uk/event/ce-procurement-group-june/
LOCATION:Online
CATEGORIES:Events,Procurement
ATTACH;FMTTYPE=image/png:https://constructingexcellence.org.uk/wp-content/uploads/2024/02/procurement-INDIGO-e1727687296656.png
END:VEVENT
BEGIN:VEVENT
DTSTART;TZID=Europe/London:20260910T140000
DTEND;TZID=Europe/London:20260910T153000
DTSTAMP:20260420T024206
CREATED:20260102T092655Z
LAST-MODIFIED:20260102T092655Z
UID:26705-1789048800-1789054200@constructingexcellence.org.uk
SUMMARY:CE Procurement Group- September
DESCRIPTION:The Constructing Excellence Procurement Group\, chaired by Rebecca Rees\, brings together a highly knowledgeable group of our members who are committed to delivering better procurement. \nRebecca is a partner and Head of Public Procurement at the international law firm\, Trowers & Hamlins\, and is a leading national expert in public procurement law\, consistently ranked as among the world’s leading government contracts lawyers. \nJoin us on Thursday 10th September for another interesting session\, more details to follow shortly. \nThis event provides Constructing Excellence National members with CPD in partnership with BRE Academy.
URL:https://constructingexcellence.org.uk/event/ce-procurement-group-september-2/
LOCATION:Online
CATEGORIES:Events,Procurement
ATTACH;FMTTYPE=image/png:https://constructingexcellence.org.uk/wp-content/uploads/2024/02/procurement-INDIGO-e1727687296656.png
END:VEVENT
BEGIN:VEVENT
DTSTART;TZID=Europe/London:20261111T140000
DTEND;TZID=Europe/London:20261111T153000
DTSTAMP:20260420T024206
CREATED:20260102T092859Z
LAST-MODIFIED:20260102T092859Z
UID:26708-1794405600-1794411000@constructingexcellence.org.uk
SUMMARY:CE Procurement Group- November
DESCRIPTION:The Constructing Excellence Procurement Group\, chaired by Rebecca Rees\, brings together a highly knowledgeable group of our members who are committed to delivering better procurement. \nRebecca is a partner and Head of Public Procurement at the international law firm\, Trowers & Hamlins\, and is a leading national expert in public procurement law\, consistently ranked as among the world’s leading government contracts lawyers. \nJoin us on Wednesday 11th November for another interesting session\, more details to follow shortly. \nThis event provides Constructing Excellence National members with CPD in partnership with BRE Academy.
URL:https://constructingexcellence.org.uk/event/ce-procurement-group-november/
LOCATION:Online
CATEGORIES:Events,Procurement
ATTACH;FMTTYPE=image/png:https://constructingexcellence.org.uk/wp-content/uploads/2024/02/procurement-INDIGO-e1727687296656.png
END:VEVENT
END:VCALENDAR