BEGIN:VCALENDAR
VERSION:2.0
PRODID:-//Constructing Excellence - ECPv6.15.17.1//NONSGML v1.0//EN
CALSCALE:GREGORIAN
METHOD:PUBLISH
X-ORIGINAL-URL:https://constructingexcellence.org.uk
X-WR-CALDESC:Events for Constructing Excellence
REFRESH-INTERVAL;VALUE=DURATION:PT1H
X-Robots-Tag:noindex
X-PUBLISHED-TTL:PT1H
BEGIN:VTIMEZONE
TZID:Europe/London
BEGIN:DAYLIGHT
TZOFFSETFROM:+0000
TZOFFSETTO:+0100
TZNAME:BST
DTSTART:20230326T010000
END:DAYLIGHT
BEGIN:STANDARD
TZOFFSETFROM:+0100
TZOFFSETTO:+0000
TZNAME:GMT
DTSTART:20231029T010000
END:STANDARD
BEGIN:DAYLIGHT
TZOFFSETFROM:+0000
TZOFFSETTO:+0100
TZNAME:BST
DTSTART:20240331T010000
END:DAYLIGHT
BEGIN:STANDARD
TZOFFSETFROM:+0100
TZOFFSETTO:+0000
TZNAME:GMT
DTSTART:20241027T010000
END:STANDARD
BEGIN:DAYLIGHT
TZOFFSETFROM:+0000
TZOFFSETTO:+0100
TZNAME:BST
DTSTART:20250330T010000
END:DAYLIGHT
BEGIN:STANDARD
TZOFFSETFROM:+0100
TZOFFSETTO:+0000
TZNAME:GMT
DTSTART:20251026T010000
END:STANDARD
END:VTIMEZONE
BEGIN:VEVENT
DTSTART;VALUE=DATE:20240916
DTEND;VALUE=DATE:20240921
DTSTAMP:20260421T173046
CREATED:20240624T093255Z
LAST-MODIFIED:20240624T093621Z
UID:23152-1726444800-1726876799@constructingexcellence.org.uk
SUMMARY:Offsite Construction Week and Offsite Expo
DESCRIPTION:Offsite Construction Week\, 16th – 20th September\nOffsite Construction Week shines a spotlight on the transformative digital\, material and manufacturing innovations that are advancing the design and application of offsite construction processes. The week comprises of a range of events\, which can be found on their website\, and includes Offsite Expo. \n  \n \nOffsite Expo\, 17th & 18th September\nOffsite Expo is a must attend event for specifiers looking for the latest offsite solutions. Visitors to the show\, which will be held on the 17 & 18 September\, will be able to see an expanded range of offsite system and technologies\, and the widest display of new and innovative applications for the built environment. To find our more and book your place\, visit their website.
URL:https://constructingexcellence.org.uk/event/offsite-construction-week-and-offsite-expo/
CATEGORIES:Events,Offsite
ATTACH;FMTTYPE=image/jpeg:https://constructingexcellence.org.uk/wp-content/uploads/2024/06/Industry-partners-CE-LinkedIn-banner-OCW-e1719221774181.jpg
END:VEVENT
END:VCALENDAR