BEGIN:VCALENDAR
VERSION:2.0
PRODID:-//Constructing Excellence - ECPv6.15.17.1//NONSGML v1.0//EN
CALSCALE:GREGORIAN
METHOD:PUBLISH
X-ORIGINAL-URL:https://constructingexcellence.org.uk
X-WR-CALDESC:Events for Constructing Excellence
REFRESH-INTERVAL;VALUE=DURATION:PT1H
X-Robots-Tag:noindex
X-PUBLISHED-TTL:PT1H
BEGIN:VTIMEZONE
TZID:Europe/London
BEGIN:DAYLIGHT
TZOFFSETFROM:+0000
TZOFFSETTO:+0100
TZNAME:BST
DTSTART:20210328T010000
END:DAYLIGHT
BEGIN:STANDARD
TZOFFSETFROM:+0100
TZOFFSETTO:+0000
TZNAME:GMT
DTSTART:20211031T010000
END:STANDARD
BEGIN:DAYLIGHT
TZOFFSETFROM:+0000
TZOFFSETTO:+0100
TZNAME:BST
DTSTART:20220327T010000
END:DAYLIGHT
BEGIN:STANDARD
TZOFFSETFROM:+0100
TZOFFSETTO:+0000
TZNAME:GMT
DTSTART:20221030T010000
END:STANDARD
BEGIN:DAYLIGHT
TZOFFSETFROM:+0000
TZOFFSETTO:+0100
TZNAME:BST
DTSTART:20230326T010000
END:DAYLIGHT
BEGIN:STANDARD
TZOFFSETFROM:+0100
TZOFFSETTO:+0000
TZNAME:GMT
DTSTART:20231029T010000
END:STANDARD
END:VTIMEZONE
BEGIN:VEVENT
DTSTART;TZID=Europe/London:20221019T080000
DTEND;TZID=Europe/London:20221019T110000
DTSTAMP:20260425T162158
CREATED:20220916T092017Z
LAST-MODIFIED:20220916T102351Z
UID:17761-1666166400-1666177200@constructingexcellence.org.uk
SUMMARY:Exploring a Platform Approach at the Forge - Site Visit
DESCRIPTION:Sir Robert McAlpine is hosting the CE Manufacturing & Technology Group at the ground-breaking Forge project.  \nThe Forge is a 139\,000 square foot\, high-quality office development\, comprising two buildings set to be finished to Cat A – not too unusual a proposition for central London. But its construction is anything but routine: it’s the world’s first large-scale office scheme to be built using a standardised “kit of parts”\, an approach known as platform design for manufacture and assembly (P-DfMA).  Visit: Changing the face of construction at The Forge – Sir Robert McAlpine (srm.com) \nCE Members will have a unique opportunity to see the platform approach in action\, find out more from the team behind this ground-breaking project and consider how this could be applied on future projects.   \n 
URL:https://constructingexcellence.org.uk/event/exploring-a-platform-approach-at-the-forge-site-visit/
LOCATION:The Forge\, 57 Southwark Street\, Southwark\, London\, SE1 0AL\, United Kingdom
CATEGORIES:Offsite
ATTACH;FMTTYPE=image/png:https://constructingexcellence.org.uk/wp-content/uploads/2021/07/offsite-manufacturing-and-technology-white-icon-e1663323624652.png
END:VEVENT
END:VCALENDAR