BEGIN:VCALENDAR
VERSION:2.0
PRODID:-//Constructing Excellence - ECPv6.15.17.1//NONSGML v1.0//EN
CALSCALE:GREGORIAN
METHOD:PUBLISH
X-WR-CALNAME:Constructing Excellence
X-ORIGINAL-URL:https://constructingexcellence.org.uk
X-WR-CALDESC:Events for Constructing Excellence
REFRESH-INTERVAL;VALUE=DURATION:PT1H
X-Robots-Tag:noindex
X-PUBLISHED-TTL:PT1H
BEGIN:VTIMEZONE
TZID:Europe/London
BEGIN:DAYLIGHT
TZOFFSETFROM:+0000
TZOFFSETTO:+0100
TZNAME:BST
DTSTART:20240331T010000
END:DAYLIGHT
BEGIN:STANDARD
TZOFFSETFROM:+0100
TZOFFSETTO:+0000
TZNAME:GMT
DTSTART:20241027T010000
END:STANDARD
BEGIN:DAYLIGHT
TZOFFSETFROM:+0000
TZOFFSETTO:+0100
TZNAME:BST
DTSTART:20250330T010000
END:DAYLIGHT
BEGIN:STANDARD
TZOFFSETFROM:+0100
TZOFFSETTO:+0000
TZNAME:GMT
DTSTART:20251026T010000
END:STANDARD
BEGIN:DAYLIGHT
TZOFFSETFROM:+0000
TZOFFSETTO:+0100
TZNAME:BST
DTSTART:20260329T010000
END:DAYLIGHT
BEGIN:STANDARD
TZOFFSETFROM:+0100
TZOFFSETTO:+0000
TZNAME:GMT
DTSTART:20261025T010000
END:STANDARD
END:VTIMEZONE
BEGIN:VEVENT
DTSTART;TZID=Europe/London:20251111T143000
DTEND;TZID=Europe/London:20251111T160000
DTSTAMP:20260420T160353
CREATED:20251009T091659Z
LAST-MODIFIED:20251009T094902Z
UID:26454-1762871400-1762876800@constructingexcellence.org.uk
SUMMARY:Offsite Manufacturing & Technology Group- NHP Industrialised Construction Update
DESCRIPTION:Chaired by Alex Small of Tata Steel\, this group is looking at how we can best leverage the knowledge that sits throughout the supply chain and the manufacturing base to add more value to projects and programmes. \nJoin us for the next session online on Monday 11th November\, 2:30pm- 4pm\, where we’ll be hearing from Emily King\, Doug Baldock and Abbie Romano\, NHP\, on the New Hospital Programme’s approach to industrialised construction. \n  \nThis event provides Constructing Excellence National members with CPD in partnership with BRE Academy.
URL:https://constructingexcellence.org.uk/event/offsite-manufacturing-technology-group-nhp-industrialised-construction-update/
LOCATION:Online
CATEGORIES:Events,Offsite
ATTACH;FMTTYPE=image/png:https://constructingexcellence.org.uk/wp-content/uploads/2024/03/SMALL-offsite-INDIGO.png
END:VEVENT
END:VCALENDAR