BEGIN:VCALENDAR
VERSION:2.0
PRODID:-//Constructing Excellence - ECPv6.15.17.1//NONSGML v1.0//EN
CALSCALE:GREGORIAN
METHOD:PUBLISH
X-ORIGINAL-URL:https://constructingexcellence.org.uk
X-WR-CALDESC:Events for Constructing Excellence
REFRESH-INTERVAL;VALUE=DURATION:PT1H
X-Robots-Tag:noindex
X-PUBLISHED-TTL:PT1H
BEGIN:VTIMEZONE
TZID:Europe/London
BEGIN:DAYLIGHT
TZOFFSETFROM:+0000
TZOFFSETTO:+0100
TZNAME:BST
DTSTART:20210328T010000
END:DAYLIGHT
BEGIN:STANDARD
TZOFFSETFROM:+0100
TZOFFSETTO:+0000
TZNAME:GMT
DTSTART:20211031T010000
END:STANDARD
BEGIN:DAYLIGHT
TZOFFSETFROM:+0000
TZOFFSETTO:+0100
TZNAME:BST
DTSTART:20220327T010000
END:DAYLIGHT
BEGIN:STANDARD
TZOFFSETFROM:+0100
TZOFFSETTO:+0000
TZNAME:GMT
DTSTART:20221030T010000
END:STANDARD
BEGIN:DAYLIGHT
TZOFFSETFROM:+0000
TZOFFSETTO:+0100
TZNAME:BST
DTSTART:20230326T010000
END:DAYLIGHT
BEGIN:STANDARD
TZOFFSETFROM:+0100
TZOFFSETTO:+0000
TZNAME:GMT
DTSTART:20231029T010000
END:STANDARD
END:VTIMEZONE
BEGIN:VEVENT
DTSTART;TZID=Europe/London:20220223T140000
DTEND;TZID=Europe/London:20220223T160000
DTSTAMP:20260426T042840
CREATED:20211209T134320Z
LAST-MODIFIED:20220207T145727Z
UID:15420-1645624800-1645632000@constructingexcellence.org.uk
SUMMARY:CE Procurement Group - Procuring for MMC
DESCRIPTION:Joining Constructing Excellence Procurement Group and Offsite Manufacturing and Technology Group\, we will be discussing Procuring for MMC. \n  \nRegister for free now
URL:https://constructingexcellence.org.uk/event/ce-procurement-group-procuring-for-mmc/
LOCATION:Online
CATEGORIES:Offsite,Procurement
ATTACH;FMTTYPE=image/png:https://constructingexcellence.org.uk/wp-content/uploads/2021/12/procurement-white-logo-1-e1650980236763.png
END:VEVENT
END:VCALENDAR