BEGIN:VCALENDAR
VERSION:2.0
PRODID:-//Constructing Excellence - ECPv6.15.17.1//NONSGML v1.0//EN
CALSCALE:GREGORIAN
METHOD:PUBLISH
X-ORIGINAL-URL:https://constructingexcellence.org.uk
X-WR-CALDESC:Events for Constructing Excellence
REFRESH-INTERVAL;VALUE=DURATION:PT1H
X-Robots-Tag:noindex
X-PUBLISHED-TTL:PT1H
BEGIN:VTIMEZONE
TZID:UTC
BEGIN:STANDARD
TZOFFSETFROM:+0000
TZOFFSETTO:+0000
TZNAME:UTC
DTSTART:20140101T000000
END:STANDARD
END:VTIMEZONE
BEGIN:VEVENT
DTSTART;TZID=UTC:20170712T110000
DTEND;TZID=UTC:20170712T123000
DTSTAMP:20260421T135233
CREATED:20170623T130217Z
LAST-MODIFIED:20170623T131931Z
UID:5734-1499857200-1499862600@constructingexcellence.org.uk
SUMMARY:Digital Construction Theme Group meeting
DESCRIPTION:Followed by the thinkBIM conference. Contact colm.quinn@constructingexcellence.org.uk for more detail.
URL:https://constructingexcellence.org.uk/event/digital-construction-theme-group-meeting/
LOCATION:Squire Patton Boggs Leeds Office\, 6 Wellington Place\, Leeds\, LS1 4AP\, United Kingdom
CATEGORIES:Digital
END:VEVENT
BEGIN:VEVENT
DTSTART;TZID=UTC:20170405T110000
DTEND;TZID=UTC:20170405T130000
DTSTAMP:20260421T135233
CREATED:20170110T142255Z
LAST-MODIFIED:20170110T142255Z
UID:5077-1491390000-1491397200@constructingexcellence.org.uk
SUMMARY:Digital Construction Theme Group
DESCRIPTION:Followed by thinkBIM
URL:https://constructingexcellence.org.uk/event/digital-construction-theme-group-2/
LOCATION:Leeds
CATEGORIES:Digital
END:VEVENT
BEGIN:VEVENT
DTSTART;TZID=UTC:20161207T110000
DTEND;TZID=UTC:20161207T130000
DTSTAMP:20260421T135233
CREATED:20161021T121722Z
LAST-MODIFIED:20161021T121722Z
UID:4866-1481108400-1481115600@constructingexcellence.org.uk
SUMMARY:Digital Construction Theme Group
DESCRIPTION:
URL:https://constructingexcellence.org.uk/event/digital-construction-theme-group/
LOCATION:Squire Patton Boggs Leeds Office\, 6 Wellington Place\, Leeds\, LS1 4AP\, United Kingdom
CATEGORIES:Digital
END:VEVENT
BEGIN:VEVENT
DTSTART;TZID=UTC:20161004T120000
DTEND;TZID=UTC:20161004T170000
DTSTAMP:20260421T135233
CREATED:20160921T140058Z
LAST-MODIFIED:20160921T140058Z
UID:4762-1475582400-1475600400@constructingexcellence.org.uk
SUMMARY:Sustainability and Digital Construction Theme Groups Joint meeting
DESCRIPTION:The merger between BRE and CE offers us an opportunity to further strengthen the support we give to our members on sustainability and digital construction. This will provide opportunities to increase the diversity of participating companies and provide wider networking and collaborations. With this in mind\, this meeting on BIM and sustainability will be a combined meeting between the sustainability and digital construction theme groups. \nThis meeting will include: \n\nan introduction to BIM from Kim van Rooyen of our hosts Turner & Townsend\nJudit Kimpian at AHR on the CarbonBuzz project and BIM energy modelling\na look at integrating sustainability data in BIM software with Meike Borchers from WSP Parsons Brinckerhoff\nChris Broadbent and Guy Hammersley with an overview of the many ways BRE delivers sustainability and BIM\, and how they relate to each other\nan update from Antonio Pisano on Constructing Excellence’s Data workstream\, and the implication for sustainability\na discussion of the role of digital in delivering sustainability\n\nNational members of Constructing Excellence can attend by emailing colm.quinn@constructingexcellence.org.uk
URL:https://constructingexcellence.org.uk/event/sustainability-digital-construction-theme-groups-joint-meeting/
LOCATION:Turner and Townsend Office\, One New Change\, London\, EC4M 9AF\, United Kingdom
CATEGORIES:Digital,Sustainability
END:VEVENT
BEGIN:VEVENT
DTSTART;TZID=UTC:20160628T020000
DTEND;TZID=UTC:20160628T170000
DTSTAMP:20260421T135233
CREATED:20160511T102432Z
LAST-MODIFIED:20160511T102432Z
UID:4445-1467079200-1467133200@constructingexcellence.org.uk
SUMMARY:Digital Construction (formerly BIM) Theme Group Meeting
DESCRIPTION:
URL:https://constructingexcellence.org.uk/event/digital-construction-formerly-bim-theme-group-meeting/
LOCATION:Trowers & Hamlins\, 3 Bunhill Row\, London\, EC1Y 8YZ
CATEGORIES:Digital
END:VEVENT
BEGIN:VEVENT
DTSTART;TZID=UTC:20160323T110000
DTEND;TZID=UTC:20160323T130000
DTSTAMP:20260421T135233
CREATED:20160113T150849Z
LAST-MODIFIED:20160113T150849Z
UID:3775-1458730800-1458738000@constructingexcellence.org.uk
SUMMARY:BIM Theme Group
DESCRIPTION:
URL:https://constructingexcellence.org.uk/event/bim-theme-group-3/
LOCATION:Leeds
CATEGORIES:Digital
END:VEVENT
BEGIN:VEVENT
DTSTART;VALUE=DATE:20151202
DTEND;VALUE=DATE:20151203
DTSTAMP:20260421T135233
CREATED:20150501T083955Z
LAST-MODIFIED:20150501T083955Z
UID:2742-1449014400-1449100799@constructingexcellence.org.uk
SUMMARY:BIM Theme Group
DESCRIPTION:
URL:https://constructingexcellence.org.uk/event/bim-theme-group-2/
LOCATION:Leeds
CATEGORIES:Digital
ORGANIZER;CN="Colm Quinn":MAILTO:colm.quinn@constructingexcellence.org.uk
END:VEVENT
BEGIN:VEVENT
DTSTART;VALUE=DATE:20150701
DTEND;VALUE=DATE:20150702
DTSTAMP:20260421T135233
CREATED:20150501T074044Z
LAST-MODIFIED:20150501T074044Z
UID:2732-1435708800-1435795199@constructingexcellence.org.uk
SUMMARY:BIM Theme group
DESCRIPTION:
URL:https://constructingexcellence.org.uk/event/bim-theme-group/
LOCATION:Leeds
CATEGORIES:Digital
ORGANIZER;CN="Colm Quinn":MAILTO:colm.quinn@constructingexcellence.org.uk
END:VEVENT
BEGIN:VEVENT
DTSTART;TZID=UTC:20150401T110000
DTEND;TZID=UTC:20150401T123000
DTSTAMP:20260421T135233
CREATED:20150119T150931Z
LAST-MODIFIED:20150311T110028Z
UID:1471-1427886000-1427891400@constructingexcellence.org.uk
SUMMARY:BIM Theme Group Meeting
DESCRIPTION:The theme of the meeting will be the Clients role in the BIM process with a contribution from the Environment Agency as well as an update from the recently formed BIM4Clients group and a look at what the Construction Clients’ Group will be doing in this area.
URL:https://constructingexcellence.org.uk/event/bim-theme-group-meeting/
LOCATION:Squire Patton Boggs Leeds Office\, 6 Wellington Place\, Leeds\, LS1 4AP\, United Kingdom
CATEGORIES:Digital
ORGANIZER;CN="Colm Quinn":MAILTO:colm.quinn@constructingexcellence.org.uk
END:VEVENT
END:VCALENDAR