BEGIN:VCALENDAR
VERSION:2.0
PRODID:-//Constructing Excellence - ECPv6.15.17.1//NONSGML v1.0//EN
CALSCALE:GREGORIAN
METHOD:PUBLISH
X-ORIGINAL-URL:https://constructingexcellence.org.uk
X-WR-CALDESC:Events for Constructing Excellence
REFRESH-INTERVAL;VALUE=DURATION:PT1H
X-Robots-Tag:noindex
X-PUBLISHED-TTL:PT1H
BEGIN:VTIMEZONE
TZID:Europe/London
BEGIN:DAYLIGHT
TZOFFSETFROM:+0000
TZOFFSETTO:+0100
TZNAME:BST
DTSTART:20220327T010000
END:DAYLIGHT
BEGIN:STANDARD
TZOFFSETFROM:+0100
TZOFFSETTO:+0000
TZNAME:GMT
DTSTART:20221030T010000
END:STANDARD
BEGIN:DAYLIGHT
TZOFFSETFROM:+0000
TZOFFSETTO:+0100
TZNAME:BST
DTSTART:20230326T010000
END:DAYLIGHT
BEGIN:STANDARD
TZOFFSETFROM:+0100
TZOFFSETTO:+0000
TZNAME:GMT
DTSTART:20231029T010000
END:STANDARD
BEGIN:DAYLIGHT
TZOFFSETFROM:+0000
TZOFFSETTO:+0100
TZNAME:BST
DTSTART:20240331T010000
END:DAYLIGHT
BEGIN:STANDARD
TZOFFSETFROM:+0100
TZOFFSETTO:+0000
TZNAME:GMT
DTSTART:20241027T010000
END:STANDARD
END:VTIMEZONE
BEGIN:VEVENT
DTSTART;TZID=Europe/London:20230323T100000
DTEND;TZID=Europe/London:20230323T113000
DTSTAMP:20260422T115752
CREATED:20230228T102902Z
LAST-MODIFIED:20230309T105045Z
UID:19489-1679565600-1679571000@constructingexcellence.org.uk
SUMMARY:CE Procurement Group meeting – Online Event
DESCRIPTION:The Constructing Excellence Procurement Group brings together a highly knowledgeable group of our members who are committed to delivering better procurement.\nChair of the group\, Rebecca Rees is a partner and Head of Public Procurement at the international law firm\, Trowers & Hamlins\, and is a leading national expert in public procurement law\, consistently ranked as among the world’s leading government contracts lawyers.\nMore details on the session\, to follow…
URL:https://constructingexcellence.org.uk/event/ce-procurement-group-meeting-online-event/
LOCATION:Online
CATEGORIES:Events,Procurement
ATTACH;FMTTYPE=image/png:https://constructingexcellence.org.uk/wp-content/uploads/2021/12/procurement-white-logo-1-e1650980236763.png
END:VEVENT
END:VCALENDAR