BEGIN:VCALENDAR
VERSION:2.0
PRODID:-//Constructing Excellence - ECPv6.15.17.1//NONSGML v1.0//EN
CALSCALE:GREGORIAN
METHOD:PUBLISH
X-WR-CALNAME:Constructing Excellence
X-ORIGINAL-URL:https://constructingexcellence.org.uk
X-WR-CALDESC:Events for Constructing Excellence
REFRESH-INTERVAL;VALUE=DURATION:PT1H
X-Robots-Tag:noindex
X-PUBLISHED-TTL:PT1H
BEGIN:VTIMEZONE
TZID:Europe/London
BEGIN:DAYLIGHT
TZOFFSETFROM:+0000
TZOFFSETTO:+0100
TZNAME:BST
DTSTART:20230326T010000
END:DAYLIGHT
BEGIN:STANDARD
TZOFFSETFROM:+0100
TZOFFSETTO:+0000
TZNAME:GMT
DTSTART:20231029T010000
END:STANDARD
BEGIN:DAYLIGHT
TZOFFSETFROM:+0000
TZOFFSETTO:+0100
TZNAME:BST
DTSTART:20240331T010000
END:DAYLIGHT
BEGIN:STANDARD
TZOFFSETFROM:+0100
TZOFFSETTO:+0000
TZNAME:GMT
DTSTART:20241027T010000
END:STANDARD
BEGIN:DAYLIGHT
TZOFFSETFROM:+0000
TZOFFSETTO:+0100
TZNAME:BST
DTSTART:20250330T010000
END:DAYLIGHT
BEGIN:STANDARD
TZOFFSETFROM:+0100
TZOFFSETTO:+0000
TZNAME:GMT
DTSTART:20251026T010000
END:STANDARD
END:VTIMEZONE
BEGIN:VEVENT
DTSTART;TZID=Europe/London:20240403T093000
DTEND;TZID=Europe/London:20240403T110000
DTSTAMP:20260421T111916
CREATED:20231010T143533Z
LAST-MODIFIED:20231010T143533Z
UID:21544-1712136600-1712142000@constructingexcellence.org.uk
SUMMARY:CE Performance Measurement – April
DESCRIPTION:The Performance Measurement group will be meeting to continue exploring different measures and tools available and how they can be used/ what they’re good for. We will be joined by Group Chair Simon Cross\, Director at Mott MacDonald. \nJoin us on Wednesday 3rd April for a productive online discussion. Further details to be confirmed.
URL:https://constructingexcellence.org.uk/event/ce-performance-measurement-april/
LOCATION:Online
CATEGORIES:Events,Performance Measurement
ATTACH;FMTTYPE=image/png:https://constructingexcellence.org.uk/wp-content/uploads/2023/04/performance-measurement-SCARLET.png
END:VEVENT
BEGIN:VEVENT
DTSTART;VALUE=DATE:20240418
DTEND;VALUE=DATE:20240419
DTSTAMP:20260421T111916
CREATED:20240223T111206Z
LAST-MODIFIED:20240415T090019Z
UID:22612-1713398400-1713484799@constructingexcellence.org.uk
SUMMARY:Nima Virtual Conference- CE Digital By Default Session
DESCRIPTION:Nima will be hosting their second Virtual Conference on Thursday 18th April\, exploring whole-life information management. This is not just another conference\, it is a unique opportunity to listen\, reflect and discuss how to go about winning with data! \nThe Spring Conference will be held in an immersive environment\, where the audience\, speakers and exhibitors interact through a series of virtual spaces for presentations\, demonstrations and networking.  Supported by four keynote presentations and four practical discussion panels. \nWithin the virtual environment\, there will also be six networking rooms\, each with their own topic area for insight\, predictions and real-world projects that will demonstrate the digital progression of the built environment. \nWithin the virtual environment\, there will also be six networking rooms\, each with their own topic area for discussion\, insight and real-world experience. They will demonstrate Information Management learning and progression within the built and managed environment. \nConstructing Excellence will be running a Digital by Default session in the Let’s Talk About BIM Networking Room.\nWhen you land in the Let’s Talk About BIM Networking Room\, whether you’re a BIM-beginner or a digital genius\, we have something and someone for you. We’ll cover the fundamentals of Information Management\, including how BIM can be applied to each stage of the design and built process. As well as an international perspective and an understanding of the ISO 19650 standard. \nJoin us to explore Digital by Default from 10:00-12:00.\nRegistration for the conference is free\, sign up via the website.
URL:https://constructingexcellence.org.uk/event/nima-virtual-conference-ce-digital-by-default-session/
LOCATION:Online
CATEGORIES:Digital,Events
ATTACH;FMTTYPE=image/png:https://constructingexcellence.org.uk/wp-content/uploads/2024/02/nima-logo.png
END:VEVENT
BEGIN:VEVENT
DTSTART;TZID=Europe/London:20240425T140000
DTEND;TZID=Europe/London:20240425T153000
DTSTAMP:20260421T111916
CREATED:20240318T100034Z
LAST-MODIFIED:20240318T100236Z
UID:22753-1714053600-1714059000@constructingexcellence.org.uk
SUMMARY:Driving Productivity Through Industrialisation
DESCRIPTION:The narrative around MMC is changing. There are increasing calls for government to embrace the principles of ‘industrialisation’ as a means to unlocking productivity in the construction sector. The proposed shift in narrative recognises that our long-held interest in the adoption of manufacturing processes and technologies as a means to higher productivity requires a fundamental change in our traditional project delivery model. \nWhere the traditional construction delivery model promotes constant reinvention in what we deliver and how we deliver it\, Industrialised Construction approaches are focused on driving standardisation\, repeatability and continuous improvement in systems\, processes and relationships across suitable programmes and portfolios of work. Through these approaches\, we can create the conditions for manufacturing supply chains to thrive\, and embrace more productive approaches to design\, logistics\, assembly and beyond. \nOn Thursday 25th April\, the CE Offsite Group will join Ron Lang\, Regional Director at AtkinsRealis\, in a debate on why we should shift our focus towards industrialisation if we are to create a modern industry that embraces technological development\, that attracts and retains the best talent and that efficiently delivers high quality outputs that meet the needs of society.\nWhy not come along and share your thoughts?
URL:https://constructingexcellence.org.uk/event/driving-productivity-through-industrialisation/
LOCATION:Online
CATEGORIES:Events,Offsite
ATTACH;FMTTYPE=image/png:https://constructingexcellence.org.uk/wp-content/uploads/2024/03/SMALL-offsite-INDIGO.png
END:VEVENT
END:VCALENDAR