BEGIN:VCALENDAR
VERSION:2.0
PRODID:-//Constructing Excellence - ECPv6.15.17.1//NONSGML v1.0//EN
CALSCALE:GREGORIAN
METHOD:PUBLISH
X-WR-CALNAME:Constructing Excellence
X-ORIGINAL-URL:https://constructingexcellence.org.uk
X-WR-CALDESC:Events for Constructing Excellence
REFRESH-INTERVAL;VALUE=DURATION:PT1H
X-Robots-Tag:noindex
X-PUBLISHED-TTL:PT1H
BEGIN:VTIMEZONE
TZID:Europe/London
BEGIN:DAYLIGHT
TZOFFSETFROM:+0000
TZOFFSETTO:+0100
TZNAME:BST
DTSTART:20220327T010000
END:DAYLIGHT
BEGIN:STANDARD
TZOFFSETFROM:+0100
TZOFFSETTO:+0000
TZNAME:GMT
DTSTART:20221030T010000
END:STANDARD
BEGIN:DAYLIGHT
TZOFFSETFROM:+0000
TZOFFSETTO:+0100
TZNAME:BST
DTSTART:20230326T010000
END:DAYLIGHT
BEGIN:STANDARD
TZOFFSETFROM:+0100
TZOFFSETTO:+0000
TZNAME:GMT
DTSTART:20231029T010000
END:STANDARD
BEGIN:DAYLIGHT
TZOFFSETFROM:+0000
TZOFFSETTO:+0100
TZNAME:BST
DTSTART:20240331T010000
END:DAYLIGHT
BEGIN:STANDARD
TZOFFSETFROM:+0100
TZOFFSETTO:+0000
TZNAME:GMT
DTSTART:20241027T010000
END:STANDARD
END:VTIMEZONE
BEGIN:VEVENT
DTSTART;TZID=Europe/London:20231211T140000
DTEND;TZID=Europe/London:20231211T153000
DTSTAMP:20260421T184542
CREATED:20231018T161613Z
LAST-MODIFIED:20231018T161649Z
UID:21612-1702303200-1702308600@constructingexcellence.org.uk
SUMMARY:Energy Transition – Effective Information Management and Communication
DESCRIPTION:Energy Transition is here – reports indicate political will\, technological evolution\, government investment support\, investor interest and commitment\, and project development and delivery have taken a significant leap forward. But little is said about how projects are delivered and the corresponding contracting arrangements. Constructing Excellence and ECI will be hosting a year long series of events to address the Energy Transition revolution and we welcome your participation! \n  \nJoin us for the next session in this series\, which will focus on Effective Information Management and Communication. \nMore information about this session will follow shortly.
URL:https://constructingexcellence.org.uk/event/energy-transition-effective-information-management-and-communication/
LOCATION:Online
CATEGORIES:ECI,Energy Transition,Events
ATTACH;FMTTYPE=image/png:https://constructingexcellence.org.uk/wp-content/uploads/2023/04/ECI-e1681721493258.png
END:VEVENT
BEGIN:VEVENT
DTSTART;TZID=Europe/London:20231212T093000
DTEND;TZID=Europe/London:20231212T113000
DTSTAMP:20260421T184542
CREATED:20231109T113022Z
LAST-MODIFIED:20231129T170034Z
UID:21720-1702373400-1702380600@constructingexcellence.org.uk
SUMMARY:Platforms and Circularity Roundtable
DESCRIPTION:Constructing Excellence is partnering with colleagues UKGBC and IOM3 for an exploratory roundtable on the role that platforms can play in enabling the circular economy.  Platforms and standardised approaches have a huge role to play in delivering quality and productivity and will play a huge role in enabling manufacturers to innovate products that deliver genuine value for end-users. \n  \nCircularity is one of the eight core principles set out in the Construction Innovation Hub’s Platform Rulebook*. ‘To ensure that products have been designed for disassembly\, repair\, or reuse at the end of use and that the manufacturer has provided detailed information on maintenance\, reuse\, disassembly and recovery options.’ \n  \nThis roundtable will explore the role that platforms can play in unlocking circularity and the circularity considerations that those developing platforms need to incorporate.\nJoin us for what promises to be a lively and informative discussion.\n  \n**** The Construction Innovation Hub’s Platform Rulebook defines platforms as: \n• The kit of parts\, associated production processes\, knowledge\, people and relationships required to deliver all or part of construction projects using a platform approach:  \n• A product platform provides a stable core which is configured and combined with complementary components (via defined interfaces) to suit a particular project.  \n• A product platform also includes the processes\, tools and equipment required for assembly
URL:https://constructingexcellence.org.uk/event/platforms-and-circularity-roundtable/
LOCATION:Online
CATEGORIES:Events,Offsite
ATTACH;FMTTYPE=image/jpeg:https://constructingexcellence.org.uk/wp-content/uploads/2023/06/IOM3-logo.jpg
END:VEVENT
BEGIN:VEVENT
DTSTART;TZID=Europe/London:20231213T093000
DTEND;TZID=Europe/London:20231213T110000
DTSTAMP:20260421T184542
CREATED:20231010T143236Z
LAST-MODIFIED:20231010T143236Z
UID:21540-1702459800-1702465200@constructingexcellence.org.uk
SUMMARY:CE Performance Measurement – December
DESCRIPTION:The Performance Measurement group will be meeting to continue exploring different measures and tools available and how they can be used/ what they’re good for. We will be joined by Group Chair Simon Cross\, Director at Mott MacDonald. \nJoin us on Wednesday 13th December for a productive online discussion. Further details to be confirmed.
URL:https://constructingexcellence.org.uk/event/ce-performance-measurement-december/
LOCATION:Online
CATEGORIES:Events,Performance Measurement
ATTACH;FMTTYPE=image/png:https://constructingexcellence.org.uk/wp-content/uploads/2023/04/performance-measurement-SCARLET.png
END:VEVENT
END:VCALENDAR