BEGIN:VCALENDAR
VERSION:2.0
PRODID:-//Constructing Excellence - ECPv6.15.17.1//NONSGML v1.0//EN
CALSCALE:GREGORIAN
METHOD:PUBLISH
X-WR-CALNAME:Constructing Excellence
X-ORIGINAL-URL:https://constructingexcellence.org.uk
X-WR-CALDESC:Events for Constructing Excellence
REFRESH-INTERVAL;VALUE=DURATION:PT1H
X-Robots-Tag:noindex
X-PUBLISHED-TTL:PT1H
BEGIN:VTIMEZONE
TZID:UTC
BEGIN:STANDARD
TZOFFSETFROM:+0000
TZOFFSETTO:+0000
TZNAME:UTC
DTSTART:20210101T000000
END:STANDARD
END:VTIMEZONE
BEGIN:VTIMEZONE
TZID:Europe/London
BEGIN:DAYLIGHT
TZOFFSETFROM:+0000
TZOFFSETTO:+0100
TZNAME:BST
DTSTART:20210328T010000
END:DAYLIGHT
BEGIN:STANDARD
TZOFFSETFROM:+0100
TZOFFSETTO:+0000
TZNAME:GMT
DTSTART:20211031T010000
END:STANDARD
BEGIN:DAYLIGHT
TZOFFSETFROM:+0000
TZOFFSETTO:+0100
TZNAME:BST
DTSTART:20220327T010000
END:DAYLIGHT
BEGIN:STANDARD
TZOFFSETFROM:+0100
TZOFFSETTO:+0000
TZNAME:GMT
DTSTART:20221030T010000
END:STANDARD
BEGIN:DAYLIGHT
TZOFFSETFROM:+0000
TZOFFSETTO:+0100
TZNAME:BST
DTSTART:20230326T010000
END:DAYLIGHT
BEGIN:STANDARD
TZOFFSETFROM:+0100
TZOFFSETTO:+0000
TZNAME:GMT
DTSTART:20231029T010000
END:STANDARD
END:VTIMEZONE
BEGIN:VEVENT
DTSTART;TZID=UTC:20220713T103000
DTEND;TZID=UTC:20220713T113000
DTSTAMP:20260422T221145
CREATED:20220620T105524Z
LAST-MODIFIED:20220620T105524Z
UID:17113-1657708200-1657711800@constructingexcellence.org.uk
SUMMARY:CE Procurement Group Meeting July - Project 13 Capable Owner
DESCRIPTION:This short session will explore the Project 13 Capable Owner Project 13 Home – Project 13.   We will be joined by Lucy Howard\, UK Head of Infrastructure Markets at Turner & Townsend and Co-Chair of the Capable Owner Workstream and Andrew Page\, Head of Commercial Services at Anglian Water.  This will be an opportunity find out the latest developments on the Capable Owner and how it is being implemented.
URL:https://constructingexcellence.org.uk/event/ce-procurement-group-meeting-july-project-13-capable-owner/
LOCATION:online
CATEGORIES:Procurement
ATTACH;FMTTYPE=image/png:https://constructingexcellence.org.uk/wp-content/uploads/2021/12/procurement-white-logo-1-e1650980236763.png
END:VEVENT
BEGIN:VEVENT
DTSTART;TZID=Europe/London:20220714T100000
DTEND;TZID=Europe/London:20220714T110000
DTSTAMP:20260422T221145
CREATED:20211015T135112Z
LAST-MODIFIED:20220707T132808Z
UID:16612-1657792800-1657796400@constructingexcellence.org.uk
SUMMARY:Digital Drop In July - Award winner case study - Construct.XR
DESCRIPTION:The pace and uptake of digital technologies in the sector are developing apace. The Constructing Excellence Digital Group will be holding informal ‘Digital Drop-Ins’ usually on the third week of every month to provide members with an opportunity to share ideas\, best practice and seek advice around the key issues impacting our digital journey. \nFor this session\, we have James Lee Burgess from Urban XR\, presenting us with the award winning project – Construct.XR. It is a truly innovative collaborative project that engages constructors\, consultants and students in the future of the industry; and how technology and mixed reality will change the way buildings are designed\, enhanced and delivered. \nRegister for free now \nDigital Drop In July – Award winner case study – Construct.XR Tickets\, Thu 14 Jul 2022 at 10:00 | Eventbrite
URL:https://constructingexcellence.org.uk/event/digital-drop-in-july-digital-twins/
LOCATION:online
CATEGORIES:Digital,Theme Groups
ATTACH;FMTTYPE=image/png:https://constructingexcellence.org.uk/wp-content/uploads/2021/06/digital-logo-white-e1644245321658.png
END:VEVENT
END:VCALENDAR