BEGIN:VCALENDAR
VERSION:2.0
PRODID:-//Constructing Excellence - ECPv6.15.17.1//NONSGML v1.0//EN
CALSCALE:GREGORIAN
METHOD:PUBLISH
X-WR-CALNAME:Constructing Excellence
X-ORIGINAL-URL:https://constructingexcellence.org.uk
X-WR-CALDESC:Events for Constructing Excellence
REFRESH-INTERVAL;VALUE=DURATION:PT1H
X-Robots-Tag:noindex
X-PUBLISHED-TTL:PT1H
BEGIN:VTIMEZONE
TZID:Europe/London
BEGIN:DAYLIGHT
TZOFFSETFROM:+0000
TZOFFSETTO:+0100
TZNAME:BST
DTSTART:20250330T010000
END:DAYLIGHT
BEGIN:STANDARD
TZOFFSETFROM:+0100
TZOFFSETTO:+0000
TZNAME:GMT
DTSTART:20251026T010000
END:STANDARD
BEGIN:DAYLIGHT
TZOFFSETFROM:+0000
TZOFFSETTO:+0100
TZNAME:BST
DTSTART:20260329T010000
END:DAYLIGHT
BEGIN:STANDARD
TZOFFSETFROM:+0100
TZOFFSETTO:+0000
TZNAME:GMT
DTSTART:20261025T010000
END:STANDARD
BEGIN:DAYLIGHT
TZOFFSETFROM:+0000
TZOFFSETTO:+0100
TZNAME:BST
DTSTART:20270328T010000
END:DAYLIGHT
BEGIN:STANDARD
TZOFFSETFROM:+0100
TZOFFSETTO:+0000
TZNAME:GMT
DTSTART:20271031T010000
END:STANDARD
END:VTIMEZONE
BEGIN:VEVENT
DTSTART;TZID=Europe/London:20260325T100000
DTEND;TZID=Europe/London:20260325T113000
DTSTAMP:20260426T011022
CREATED:20260102T103441Z
LAST-MODIFIED:20260312T114429Z
UID:26739-1774432800-1774438200@constructingexcellence.org.uk
SUMMARY:Climate Action Group- March
DESCRIPTION:Construction and the built environment have a huge role to play in tackling the climate crisis and delivering high quality sustainable buildings and infrastructure. It is a key concern for all built environment stakeholders and influences decision-making in all areas of the asset life cycle from design\, procurement\, construction and operation. \nJoin the Constructing Excellence Climate Action group for their next meeting on Wednesday 25th March focused on Sustainability of Data Centres. \nIn this session\, we will present the current trends in data centres and discuss their various sustainability strategies and constraints in the face of scarce resources and extreme growth in the industry. We’ll address steps data centres are taking to reduce their impact on the grid\, the water supply\, and their local communities. \nThis event provides Constructing Excellence National members with CPD in partnership with BRE Academy.
URL:https://constructingexcellence.org.uk/event/climate-action-group-march-2/
LOCATION:Online
CATEGORIES:Climate Action,Events
ATTACH;FMTTYPE=image/png:https://constructingexcellence.org.uk/wp-content/uploads/2024/02/Climate-Action-Indigo.png
END:VEVENT
BEGIN:VEVENT
DTSTART;TZID=Europe/London:20260520T100000
DTEND;TZID=Europe/London:20260520T113000
DTSTAMP:20260426T011022
CREATED:20260102T103609Z
LAST-MODIFIED:20260102T103609Z
UID:26741-1779271200-1779276600@constructingexcellence.org.uk
SUMMARY:Climate Action Group- May
DESCRIPTION:Construction and the built environment have a huge role to play in tackling the climate crisis and delivering high quality sustainable buildings and infrastructure. It is a key concern for all built environment stakeholders and influences decision-making in all areas of the asset life cycle from design\, procurement\, construction and operation. \nJoin the Constructing Excellence Climate Action group for their next meeting on Wednesday 20th May\, more information to follow shortly. \nThis event provides Constructing Excellence National members with CPD in partnership with BRE Academy.
URL:https://constructingexcellence.org.uk/event/climate-action-group-may-2/
LOCATION:Online
CATEGORIES:Climate Action,Events
ATTACH;FMTTYPE=image/png:https://constructingexcellence.org.uk/wp-content/uploads/2024/02/Climate-Action-Indigo.png
END:VEVENT
BEGIN:VEVENT
DTSTART;TZID=Europe/London:20260924T100000
DTEND;TZID=Europe/London:20260924T113000
DTSTAMP:20260426T011022
CREATED:20260102T103741Z
LAST-MODIFIED:20260102T103741Z
UID:26743-1790244000-1790249400@constructingexcellence.org.uk
SUMMARY:Climate Action Group- September
DESCRIPTION:Construction and the built environment have a huge role to play in tackling the climate crisis and delivering high quality sustainable buildings and infrastructure. It is a key concern for all built environment stakeholders and influences decision-making in all areas of the asset life cycle from design\, procurement\, construction and operation. \nJoin the Constructing Excellence Climate Action group for their next meeting on Wednesday 24th September\, more information to follow shortly. \nThis event provides Constructing Excellence National members with CPD in partnership with BRE Academy.
URL:https://constructingexcellence.org.uk/event/climate-action-group-september-2/
LOCATION:Online
CATEGORIES:Climate Action,Events
ATTACH;FMTTYPE=image/png:https://constructingexcellence.org.uk/wp-content/uploads/2024/02/Climate-Action-Indigo.png
END:VEVENT
BEGIN:VEVENT
DTSTART;TZID=Europe/London:20261125T100000
DTEND;TZID=Europe/London:20261125T113000
DTSTAMP:20260426T011022
CREATED:20260102T103924Z
LAST-MODIFIED:20260102T103924Z
UID:26745-1795600800-1795606200@constructingexcellence.org.uk
SUMMARY:Climate Action Group- November
DESCRIPTION:Construction and the built environment have a huge role to play in tackling the climate crisis and delivering high quality sustainable buildings and infrastructure. It is a key concern for all built environment stakeholders and influences decision-making in all areas of the asset life cycle from design\, procurement\, construction and operation. \nJoin the Constructing Excellence Climate Action group for their next meeting on Wednesday 25th November\, more information to follow shortly. \nThis event provides Constructing Excellence National members with CPD in partnership with BRE Academy.
URL:https://constructingexcellence.org.uk/event/climate-action-group-november-2/
LOCATION:Online
CATEGORIES:Climate Action,Events
ATTACH;FMTTYPE=image/png:https://constructingexcellence.org.uk/wp-content/uploads/2024/02/Climate-Action-Indigo.png
END:VEVENT
END:VCALENDAR