BEGIN:VCALENDAR
VERSION:2.0
PRODID:-//Constructing Excellence - ECPv6.15.17.1//NONSGML v1.0//EN
CALSCALE:GREGORIAN
METHOD:PUBLISH
X-ORIGINAL-URL:https://constructingexcellence.org.uk
X-WR-CALDESC:Events for Constructing Excellence
REFRESH-INTERVAL;VALUE=DURATION:PT1H
X-Robots-Tag:noindex
X-PUBLISHED-TTL:PT1H
BEGIN:VTIMEZONE
TZID:Europe/London
BEGIN:DAYLIGHT
TZOFFSETFROM:+0000
TZOFFSETTO:+0100
TZNAME:BST
DTSTART:20230326T010000
END:DAYLIGHT
BEGIN:STANDARD
TZOFFSETFROM:+0100
TZOFFSETTO:+0000
TZNAME:GMT
DTSTART:20231029T010000
END:STANDARD
BEGIN:DAYLIGHT
TZOFFSETFROM:+0000
TZOFFSETTO:+0100
TZNAME:BST
DTSTART:20240331T010000
END:DAYLIGHT
BEGIN:STANDARD
TZOFFSETFROM:+0100
TZOFFSETTO:+0000
TZNAME:GMT
DTSTART:20241027T010000
END:STANDARD
BEGIN:DAYLIGHT
TZOFFSETFROM:+0000
TZOFFSETTO:+0100
TZNAME:BST
DTSTART:20250330T010000
END:DAYLIGHT
BEGIN:STANDARD
TZOFFSETFROM:+0100
TZOFFSETTO:+0000
TZNAME:GMT
DTSTART:20251026T010000
END:STANDARD
END:VTIMEZONE
BEGIN:VEVENT
DTSTART;TZID=Europe/London:20240611T100000
DTEND;TZID=Europe/London:20240611T113000
DTSTAMP:20260425T213807
CREATED:20231109T141333Z
LAST-MODIFIED:20240607T080107Z
UID:21777-1718100000-1718105400@constructingexcellence.org.uk
SUMMARY:Constructing Excellence Climate Action Group- June
DESCRIPTION:Join the Constructing Excellence Climate Action theme group for their next meeting on Tuesday 11th June\, Chaired by Annette Boren. \nThe annual embodied carbon emissions stemming from the construction\, maintenance\, and demolition of buildings equates to 40-50 million tonnes of CO2 – more than emissions from aviation and shipping combined. \nTo evaluate the industry’s trajectory\, Akerlof have reviewed the top 30 UK Tier 1 contractors to understand their carbon maturity. Join us to learn about a key findings and the organisational\, project and ecosystem actions that are needed to help the industry meet net zero goals and help in our mission to improve constructions impact on the climate. \n  \nThis event provides Constructing Excellence National members with CPD in partnership with BRE Academy.
URL:https://constructingexcellence.org.uk/event/constructing-excellence-climate-action-group-june/
LOCATION:Online
CATEGORIES:Climate Action,Events
ATTACH;FMTTYPE=image/png:https://constructingexcellence.org.uk/wp-content/uploads/2023/08/Climate-Action-Scarlet-e1696945064446.png
END:VEVENT
END:VCALENDAR