BEGIN:VCALENDAR
VERSION:2.0
PRODID:-//Constructing Excellence - ECPv6.15.17.1//NONSGML v1.0//EN
CALSCALE:GREGORIAN
METHOD:PUBLISH
X-ORIGINAL-URL:https://constructingexcellence.org.uk
X-WR-CALDESC:Events for Constructing Excellence
REFRESH-INTERVAL;VALUE=DURATION:PT1H
X-Robots-Tag:noindex
X-PUBLISHED-TTL:PT1H
BEGIN:VTIMEZONE
TZID:Europe/London
BEGIN:DAYLIGHT
TZOFFSETFROM:+0000
TZOFFSETTO:+0100
TZNAME:BST
DTSTART:20230326T010000
END:DAYLIGHT
BEGIN:STANDARD
TZOFFSETFROM:+0100
TZOFFSETTO:+0000
TZNAME:GMT
DTSTART:20231029T010000
END:STANDARD
BEGIN:DAYLIGHT
TZOFFSETFROM:+0000
TZOFFSETTO:+0100
TZNAME:BST
DTSTART:20240331T010000
END:DAYLIGHT
BEGIN:STANDARD
TZOFFSETFROM:+0100
TZOFFSETTO:+0000
TZNAME:GMT
DTSTART:20241027T010000
END:STANDARD
BEGIN:DAYLIGHT
TZOFFSETFROM:+0000
TZOFFSETTO:+0100
TZNAME:BST
DTSTART:20250330T010000
END:DAYLIGHT
BEGIN:STANDARD
TZOFFSETFROM:+0100
TZOFFSETTO:+0000
TZNAME:GMT
DTSTART:20251026T010000
END:STANDARD
END:VTIMEZONE
BEGIN:VEVENT
DTSTART;TZID=Europe/London:20241115T184500
DTEND;TZID=Europe/London:20241115T184500
DTSTAMP:20260424T165320
CREATED:20240902T095748Z
LAST-MODIFIED:20240902T103324Z
UID:23910-1731696300-1731696300@constructingexcellence.org.uk
SUMMARY:Constructing Excellence National Awards 2024
DESCRIPTION:When and Where\nDate: Friday 15th November 2024\nLocation: London Marriott Grosvenor Square Hotel\nTime: 6.45pm drinks reception\, 12.00am Carriages \n  \nCost\nIndividual tickets- £305+VAT\nTable of 10- £3\,050+VAT\nTable of 12- £3\,660+VAT\n(tickets include arrival drinks\, 3 course meal\, tea/coffee\, ½ bottle of wine per person) \n  \nEach year the Constructing Excellence Awards are a celebration of everything the UK’s Built Environment has to be proud of. The awards are designed to showcase how the Constructing Excellence principles are delivered in practice and crucially inspire others to embrace these principles. \nThese prestigious Awards provide a very special showcase of excellence in the built environment across England and Wales\, bringing together the regional winners in each of the 13 categories to celebrate the very best of the best. \nThis event is a great opportunity for companies that wish to be seen as proactively supporting and leading innovation within the Built Environment and information on sponsorship can be found in the 2024 sponsorship brochure. \nTo book your place\, a booking form will need to be completed and returned to Leanne Conaway.
URL:https://constructingexcellence.org.uk/event/constructing-excellence-national-awards-2024/
LOCATION:London Marriott Hotel Grosvenor Square\, Grosvenor Square\, London\, W1K 6JP\, United Kingdom
CATEGORIES:Awards
ATTACH;FMTTYPE=image/png:https://constructingexcellence.org.uk/wp-content/uploads/2024/09/CE_Awards__Awards-2024_Indigo.png
END:VEVENT
END:VCALENDAR