BEGIN:VCALENDAR
VERSION:2.0
PRODID:-//Constructing Excellence - ECPv6.15.17.1//NONSGML v1.0//EN
CALSCALE:GREGORIAN
METHOD:PUBLISH
X-WR-CALNAME:Constructing Excellence
X-ORIGINAL-URL:https://constructingexcellence.org.uk
X-WR-CALDESC:Events for Constructing Excellence
REFRESH-INTERVAL;VALUE=DURATION:PT1H
X-Robots-Tag:noindex
X-PUBLISHED-TTL:PT1H
BEGIN:VTIMEZONE
TZID:Europe/London
BEGIN:DAYLIGHT
TZOFFSETFROM:+0000
TZOFFSETTO:+0100
TZNAME:BST
DTSTART:20250330T010000
END:DAYLIGHT
BEGIN:STANDARD
TZOFFSETFROM:+0100
TZOFFSETTO:+0000
TZNAME:GMT
DTSTART:20251026T010000
END:STANDARD
BEGIN:DAYLIGHT
TZOFFSETFROM:+0000
TZOFFSETTO:+0100
TZNAME:BST
DTSTART:20260329T010000
END:DAYLIGHT
BEGIN:STANDARD
TZOFFSETFROM:+0100
TZOFFSETTO:+0000
TZNAME:GMT
DTSTART:20261025T010000
END:STANDARD
BEGIN:DAYLIGHT
TZOFFSETFROM:+0000
TZOFFSETTO:+0100
TZNAME:BST
DTSTART:20270328T010000
END:DAYLIGHT
BEGIN:STANDARD
TZOFFSETFROM:+0100
TZOFFSETTO:+0000
TZNAME:GMT
DTSTART:20271031T010000
END:STANDARD
END:VTIMEZONE
BEGIN:VEVENT
DTSTART;TZID=Europe/London:20260423T140000
DTEND;TZID=Europe/London:20260423T150000
DTSTAMP:20260423T014524
CREATED:20260330T105534Z
LAST-MODIFIED:20260330T105723Z
UID:27073-1776952800-1776956400@constructingexcellence.org.uk
SUMMARY:CCLG Health\, Safety & Wellbeing Forum
DESCRIPTION:***This event is for Clients only- get in touch to find out more***\n  \nThe Construction Clients Leadership Group (CCLG) is the trusted voice of construction clients—championing best practice\, driving innovation\, and delivering exceptional value. With membership accessible to organisations of every size\, CCLG empowers clients to shape the future of the built environment. \nJoin us on Thursday 23rd April\, for the CCLG Health\, Safety & Wellbeing Forum where we will hear from Henrietta Frater with an update on the work of the CLC Health Safety and Wellbeing group. \nThis event provides Constructing Excellence National members with CPD in partnership with BRE Academy. \n  \n***This event is for Clients only- get in touch to find out more***
URL:https://constructingexcellence.org.uk/event/cclg-health-safety-wellbeing-forum/
LOCATION:Online
CATEGORIES:CCLG,Events
ATTACH;FMTTYPE=image/png:https://constructingexcellence.org.uk/wp-content/uploads/2025/09/CCLG-Logo-Support-RGB-FEB2024.png
END:VEVENT
END:VCALENDAR